BEGIN:VCALENDAR
VERSION:2.0
PRODID:spatie/icalendar-generator
DESCRIPTION:Events from Welcome To Park County Public Libraries
X-WR-CALDESC:Events from Welcome To Park County Public Libraries
REFRESH-INTERVAL;VALUE=DURATION:PT1440M
X-PUBLISHED-TTL:PT1440M
BEGIN:VTIMEZONE
TZID:America/Denver
BEGIN:DAYLIGHT
DTSTART:20250309T020000Z
TZOFFSETFROM:-0700
TZOFFSETTO:-0600
END:DAYLIGHT
BEGIN:STANDARD
DTSTART:20251102T020000Z
TZOFFSETFROM:-0600
TZOFFSETTO:-0700
END:STANDARD
BEGIN:DAYLIGHT
DTSTART:20260308T020000Z
TZOFFSETFROM:-0700
TZOFFSETTO:-0600
END:DAYLIGHT
END:VTIMEZONE
BEGIN:VTIMEZONE
TZID:UTC
BEGIN:STANDARD
DTSTART:20250727T145340Z
TZOFFSETFROM:+0000
TZOFFSETTO:+0000
END:STANDARD
END:VTIMEZONE
BEGIN:VEVENT
UID:2987-359
DTSTAMP:20260423T145340Z
SUMMARY:Bailey: Junior Writers' Workshop
LOCATION:
ORGANIZER;CN=baileylib:MAILTO:Baileylib@parkco.us
RRULE:FREQ=MONTHLY;BYDAY=2MO;UNTIL=20251230T000000Z
DTSTART;TZID=America/Denver:20250811T160000
DTEND;TZID=America/Denver:20260424T170000
X-ALT-DESC;FMTTYPE=TEXT/HTML:<p>Calling all young writers! Join our Junior 
 Writers' Workshop\, designed for teens 14+ who want to spark their creativ
 ity and improve their writing skills. Meeting once a month in the library 
 community room at 4:00 PM\, this workshop is perfect for those looking to 
 start creative writing projects\, write better essays\, or just improve th
 eir school papers. Share your work\, get helpful feedback\, and connect wi
 th a supportive group of fellow writers.</p>\n
CATEGORIES:bailey
URL;VALUE=URI:https://parkcounty.colibraries.org/?page_id=158&#038;mc_id=29
 87
METHOD:PUBLISH
END:VEVENT
BEGIN:VEVENT
UID:3480-547
DTSTAMP:20260423T145340Z
SUMMARY:Wooden Easter Egg Painting
LOCATION:
ORGANIZER;CN=baileylib:MAILTO:Baileylib@parkco.us
DTSTART;TZID=America/Denver:20260331T100000
DTEND;TZID=America/Denver:20260404T160000
X-ALT-DESC;FMTTYPE=TEXT/HTML:
CATEGORIES:bailey
URL;VALUE=URI:https://parkcounty.colibraries.org/?page_id=158&#038;mc_id=34
 80
METHOD:PUBLISH
END:VEVENT
BEGIN:VEVENT
UID:3480-547
DTSTAMP:20260423T145340Z
SUMMARY:Wooden Easter Egg Painting
LOCATION:
ORGANIZER;CN=baileylib:MAILTO:Baileylib@parkco.us
DTSTART;TZID=America/Denver:20260331T100000
DTEND;TZID=America/Denver:20260404T160000
X-ALT-DESC;FMTTYPE=TEXT/HTML:
CATEGORIES:bailey
URL;VALUE=URI:https://parkcounty.colibraries.org/?page_id=158&#038;mc_id=34
 80
METHOD:PUBLISH
END:VEVENT
BEGIN:VEVENT
UID:3339-529
DTSTAMP:20260423T145340Z
SUMMARY:Bailey Book Club
LOCATION:
ORGANIZER;CN=baileylib:MAILTO:Baileylib@parkco.us
RRULE:FREQ=MONTHLY;BYDAY=1WE;UNTIL=20261231T000000Z
DTSTART;TZID=America/Denver:20260401T090000
DTEND;TZID=America/Denver:20260401T110000
X-ALT-DESC;FMTTYPE=TEXT/HTML:
CATEGORIES:bailey
URL;VALUE=URI:https://parkcounty.colibraries.org/?page_id=158&#038;mc_id=33
 39
METHOD:PUBLISH
END:VEVENT
BEGIN:VEVENT
UID:3147-501
DTSTAMP:20260423T145340Z
SUMMARY:Bailey: Canasta
LOCATION:
ORGANIZER;CN=baileylib:MAILTO:Baileylib@parkco.us
RRULE:FREQ=WEEKLY;UNTIL=20261231T000000Z
DTSTART;TZID=America/Denver:20260401T120000
DTEND;TZID=America/Denver:20260401T160000
X-ALT-DESC;FMTTYPE=TEXT/HTML:
CATEGORIES:bailey
URL;VALUE=URI:https://parkcounty.colibraries.org/?page_id=158&#038;mc_id=31
 47
METHOD:PUBLISH
END:VEVENT
BEGIN:VEVENT
UID:3480-547
DTSTAMP:20260423T145340Z
SUMMARY:Wooden Easter Egg Painting
LOCATION:
ORGANIZER;CN=baileylib:MAILTO:Baileylib@parkco.us
DTSTART;TZID=America/Denver:20260331T100000
DTEND;TZID=America/Denver:20260404T160000
X-ALT-DESC;FMTTYPE=TEXT/HTML:
CATEGORIES:bailey
URL;VALUE=URI:https://parkcounty.colibraries.org/?page_id=158&#038;mc_id=34
 80
METHOD:PUBLISH
END:VEVENT
BEGIN:VEVENT
UID:3096-500
DTSTAMP:20260423T145340Z
SUMMARY:Bailey: Chair Yoga
LOCATION:
ORGANIZER;CN=baileylib:MAILTO:Baileylib@parkco.us
RRULE:FREQ=WEEKLY;UNTIL=20261231T000000Z
DTSTART;TZID=America/Denver:20260402T101500
DTEND;TZID=America/Denver:20260402T110000
X-ALT-DESC;FMTTYPE=TEXT/HTML:
CATEGORIES:bailey
URL;VALUE=URI:https://parkcounty.colibraries.org/?page_id=158&#038;mc_id=30
 96
METHOD:PUBLISH
END:VEVENT
BEGIN:VEVENT
UID:3408-539
DTSTAMP:20260423T145340Z
SUMMARY:Lake George: Storytime
LOCATION:Lake George Library 37900 US-24  Lake George\,  CO  80827
ORGANIZER;CN=lakegeorge:MAILTO:Lakegeorgelib@parkco.us
RRULE:FREQ=WEEKLY;UNTIL=20261231T000000Z
DTSTART;TZID=America/Denver:20260402T110000
DTEND;TZID=America/Denver:20260402T133000
X-ALT-DESC;FMTTYPE=TEXT/HTML:
CATEGORIES:lake george
URL;VALUE=URI:https://parkcounty.colibraries.org/?page_id=158&#038;mc_id=34
 08
METHOD:PUBLISH
END:VEVENT
BEGIN:VEVENT
UID:3480-547
DTSTAMP:20260423T145340Z
SUMMARY:Wooden Easter Egg Painting
LOCATION:
ORGANIZER;CN=baileylib:MAILTO:Baileylib@parkco.us
DTSTART;TZID=America/Denver:20260331T100000
DTEND;TZID=America/Denver:20260404T160000
X-ALT-DESC;FMTTYPE=TEXT/HTML:
CATEGORIES:bailey
URL;VALUE=URI:https://parkcounty.colibraries.org/?page_id=158&#038;mc_id=34
 80
METHOD:PUBLISH
END:VEVENT
BEGIN:VEVENT
UID:2924-465
DTSTAMP:20260423T145340Z
SUMMARY:Lego Club
LOCATION:Fairplay Library 400 Front Street  Fairplay CO 80440
ORGANIZER;CN=fairplaylib:MAILTO:Fairplaylib@parkco.us
RRULE:FREQ=WEEKLY;UNTIL=20260424T000000Z
DTSTART;TZID=America/Denver:20260403T100000
DTEND;TZID=America/Denver:20260403T110000
X-ALT-DESC;FMTTYPE=TEXT/HTML:
CATEGORIES:fairplay
URL;VALUE=URI:https://parkcounty.colibraries.org/?page_id=158&#038;mc_id=29
 24
METHOD:PUBLISH
END:VEVENT
BEGIN:VEVENT
UID:3480-547
DTSTAMP:20260423T145340Z
SUMMARY:Wooden Easter Egg Painting
LOCATION:
ORGANIZER;CN=baileylib:MAILTO:Baileylib@parkco.us
DTSTART;TZID=America/Denver:20260331T100000
DTEND;TZID=America/Denver:20260404T160000
X-ALT-DESC;FMTTYPE=TEXT/HTML:
CATEGORIES:bailey
URL;VALUE=URI:https://parkcounty.colibraries.org/?page_id=158&#038;mc_id=34
 80
METHOD:PUBLISH
END:VEVENT
BEGIN:VEVENT
UID:3454-543
DTSTAMP:20260423T145340Z
SUMMARY:Bailey Library Easter Egg Hunt
LOCATION:
ORGANIZER;CN=baileylib:MAILTO:Baileylib@parkco.us
DTSTART;TZID=America/Denver:20260404T110000
DTEND;TZID=America/Denver:20260404T130000
X-ALT-DESC;FMTTYPE=TEXT/HTML:
CATEGORIES:bailey
URL;VALUE=URI:https://parkcounty.colibraries.org/?page_id=158&#038;mc_id=34
 54
METHOD:PUBLISH
END:VEVENT
BEGIN:VEVENT
UID:3200-502
DTSTAMP:20260423T145340Z
SUMMARY:Bailey Library Storytime &amp;amp\; Craft
LOCATION:
ORGANIZER;CN=baileylib:MAILTO:Baileylib@parkco.us
RRULE:FREQ=WEEKLY;UNTIL=20261228T000000Z
DTSTART;TZID=America/Denver:20260406T110000
DTEND;TZID=America/Denver:20260406T120000
X-ALT-DESC;FMTTYPE=TEXT/HTML:
CATEGORIES:bailey
URL;VALUE=URI:https://parkcounty.colibraries.org/?page_id=158&#038;mc_id=32
 00
METHOD:PUBLISH
END:VEVENT
BEGIN:VEVENT
UID:3260-511
DTSTAMP:20260423T145340Z
SUMMARY:Bailey: Lego Time
LOCATION:
ORGANIZER;CN=baileylib:MAILTO:Baileylib@parkco.us
RRULE:FREQ=WEEKLY;UNTIL=20261228T000000Z
DTSTART;TZID=America/Denver:20260406T110000
DTEND;TZID=America/Denver:20260406T123000
X-ALT-DESC;FMTTYPE=TEXT/HTML:
CATEGORIES:bailey
URL;VALUE=URI:https://parkcounty.colibraries.org/?page_id=158&#038;mc_id=32
 60
METHOD:PUBLISH
END:VEVENT
BEGIN:VEVENT
UID:3457-546
DTSTAMP:20260423T145340Z
SUMMARY:Writer's Workshop
LOCATION:
ORGANIZER;CN=baileylib:MAILTO:Baileylib@parkco.us
DTSTART;TZID=America/Denver:20260406T190000
DTEND;TZID=America/Denver:20260406T210000
X-ALT-DESC;FMTTYPE=TEXT/HTML:
CATEGORIES:bailey
URL;VALUE=URI:https://parkcounty.colibraries.org/?page_id=158&#038;mc_id=34
 57
METHOD:PUBLISH
END:VEVENT
BEGIN:VEVENT
UID:3483-554
DTSTAMP:20260423T145340Z
SUMMARY:FOGL
LOCATION:Guffey Public Library 1625B Park County Rd. 102   Guffey CO 80820
ORGANIZER;CN=guffeylib:MAILTO:Guffeylib@parkco.us
DTSTART;TZID=America/Denver:20260408T130000
DTEND;TZID=America/Denver:20260408T140000
X-ALT-DESC;FMTTYPE=TEXT/HTML:Friends of Guffey library board meeting
CATEGORIES:guffey
URL;VALUE=URI:https://parkcounty.colibraries.org/?page_id=158&#038;mc_id=34
 83
METHOD:PUBLISH
END:VEVENT
BEGIN:VEVENT
UID:3487-558
DTSTAMP:20260423T145340Z
SUMMARY:Bailey: Public Health Outreach
LOCATION:
ORGANIZER;CN=baileylib:MAILTO:Baileylib@parkco.us
RRULE:FREQ=MONTHLY;BYDAY=3TH;UNTIL=20261231T000000Z
DTSTART;TZID=America/Denver:20260416T110000
DTEND;TZID=America/Denver:20260416T130000
X-ALT-DESC;FMTTYPE=TEXT/HTML:
CATEGORIES:bailey
URL;VALUE=URI:https://parkcounty.colibraries.org/?page_id=158&#038;mc_id=34
 87
METHOD:PUBLISH
END:VEVENT
BEGIN:VEVENT
UID:3484-555
DTSTAMP:20260423T145340Z
SUMMARY:Bailey: Senior Tech Time
LOCATION:
ORGANIZER;CN=baileylib:MAILTO:Baileylib@parkco.us
DTSTART;TZID=America/Denver:20260416T113000
DTEND;TZID=America/Denver:20260416T133000
X-ALT-DESC;FMTTYPE=TEXT/HTML:
CATEGORIES:bailey
URL;VALUE=URI:https://parkcounty.colibraries.org/?page_id=158&#038;mc_id=34
 84
METHOD:PUBLISH
END:VEVENT
BEGIN:VEVENT
UID:3471-552
DTSTAMP:20260423T145340Z
SUMMARY:Bailey: Friends of the Bailey Library501(c)(3)  Monthly Meeting
LOCATION:
ORGANIZER;CN=baileylib:MAILTO:Baileylib@parkco.us
RRULE:FREQ=MONTHLY;BYDAY=3TH;UNTIL=20261231T000000Z
DTSTART;TZID=America/Denver:20260416T160000
DTEND;TZID=America/Denver:20260416T173000
X-ALT-DESC;FMTTYPE=TEXT/HTML:
CATEGORIES:bailey
URL;VALUE=URI:https://parkcounty.colibraries.org/?page_id=158&#038;mc_id=34
 71
METHOD:PUBLISH
END:VEVENT
BEGIN:VEVENT
UID:3496-559
DTSTAMP:20260423T145340Z
SUMMARY:Bailey: Kids Craft Time
LOCATION:
ORGANIZER;CN=baileylib:MAILTO:Baileylib@parkco.us
DTSTART;TZID=America/Denver:20260418T110000
DTEND;TZID=America/Denver:20260418T120000
X-ALT-DESC;FMTTYPE=TEXT/HTML:
CATEGORIES:bailey
URL;VALUE=URI:https://parkcounty.colibraries.org/?page_id=158&#038;mc_id=34
 96
METHOD:PUBLISH
END:VEVENT
BEGIN:VEVENT
UID:3461-550
DTSTAMP:20260423T145340Z
SUMMARY:Bailey: Pressed Flowers Bookmarks
LOCATION:
ORGANIZER;CN=baileylib:MAILTO:Baileylib@parkco.us
DTSTART;TZID=America/Denver:20260420T100000
DTEND;TZID=America/Denver:20260422T160000
X-ALT-DESC;FMTTYPE=TEXT/HTML:
CATEGORIES:bailey
URL;VALUE=URI:https://parkcounty.colibraries.org/?page_id=158&#038;mc_id=34
 61
METHOD:PUBLISH
END:VEVENT
BEGIN:VEVENT
UID:3497-560
DTSTAMP:20260423T145340Z
SUMMARY:Colorado Quills Writer's Workshop
LOCATION:
ORGANIZER;CN=baileylib:MAILTO:Baileylib@parkco.us
RRULE:FREQ=MONTHLY;BYDAY=3MO;UNTIL=20261229T000000Z
DTSTART;TZID=America/Denver:20260420T190000
DTEND;TZID=America/Denver:20260420T210000
X-ALT-DESC;FMTTYPE=TEXT/HTML:
CATEGORIES:bailey
URL;VALUE=URI:https://parkcounty.colibraries.org/?page_id=158&#038;mc_id=34
 97
METHOD:PUBLISH
END:VEVENT
BEGIN:VEVENT
UID:3461-550
DTSTAMP:20260423T145340Z
SUMMARY:Bailey: Pressed Flowers Bookmarks
LOCATION:
ORGANIZER;CN=baileylib:MAILTO:Baileylib@parkco.us
DTSTART;TZID=America/Denver:20260420T100000
DTEND;TZID=America/Denver:20260422T160000
X-ALT-DESC;FMTTYPE=TEXT/HTML:
CATEGORIES:bailey
URL;VALUE=URI:https://parkcounty.colibraries.org/?page_id=158&#038;mc_id=34
 61
METHOD:PUBLISH
END:VEVENT
BEGIN:VEVENT
UID:3461-550
DTSTAMP:20260423T145340Z
SUMMARY:Bailey: Pressed Flowers Bookmarks
LOCATION:
ORGANIZER;CN=baileylib:MAILTO:Baileylib@parkco.us
DTSTART;TZID=America/Denver:20260420T100000
DTEND;TZID=America/Denver:20260422T160000
X-ALT-DESC;FMTTYPE=TEXT/HTML:
CATEGORIES:bailey
URL;VALUE=URI:https://parkcounty.colibraries.org/?page_id=158&#038;mc_id=34
 61
METHOD:PUBLISH
END:VEVENT
BEGIN:VEVENT
UID:3486-557
DTSTAMP:20260423T145340Z
SUMMARY:Bailey: Ukulele Class
LOCATION:
ORGANIZER;CN=baileylib:MAILTO:Baileylib@parkco.us
DTSTART;TZID=America/Denver:20260424T113000
DTEND;TZID=America/Denver:20260424T123000
X-ALT-DESC;FMTTYPE=TEXT/HTML:
CATEGORIES:bailey
URL;VALUE=URI:https://parkcounty.colibraries.org/?page_id=158&#038;mc_id=34
 86
METHOD:PUBLISH
END:VEVENT
BEGIN:VEVENT
UID:3485-556
DTSTAMP:20260423T145340Z
SUMMARY:Bailey: Little Gardner's Day
LOCATION:
ORGANIZER;CN=baileylib:MAILTO:Baileylib@parkco.us
DTSTART;TZID=America/Denver:20260424T130000
DTEND;TZID=America/Denver:20260424T140000
X-ALT-DESC;FMTTYPE=TEXT/HTML:
CATEGORIES:bailey
URL;VALUE=URI:https://parkcounty.colibraries.org/?page_id=158&#038;mc_id=34
 85
METHOD:PUBLISH
END:VEVENT
END:VCALENDAR